Index of /checkResults/3.14/workflows-LATEST/RnaSeqGeneEdgeRQL/raw-results/riesling1
Name
Last modified
Size
Description
Parent Directory
-
install-out.txt
12-Apr-2022 10:00
2.0K
buildsrc-out.txt
12-Apr-2022 10:00
924
install-summary.dcf
12-Apr-2022 10:00
723
buildsrc-summary.dcf
12-Apr-2022 10:00
492