Index of /checkResults/3.14/workflows-LATEST/RnaSeqGeneEdgeRQL/raw-results/machv2
Name
Last modified
Size
Description
Parent Directory
-
buildsrc-summary.dcf
12-Apr-2022 10:00
457
buildsrc-out.txt
12-Apr-2022 10:00
890
install-summary.dcf
12-Apr-2022 10:00
289
install-out.txt
12-Apr-2022 10:00
1.0K