Index of /checkResults/3.14/workflows-LATEST/RnaSeqGeneEdgeRQL/raw-results
Name
Last modified
Size
Description
Parent Directory
-
info.dcf
12-Apr-2022 10:00
289
machv2/
12-Apr-2022 10:00
-
nebbiolo2/
12-Apr-2022 10:00
-
riesling1/
12-Apr-2022 10:00
-