Index of /checkResults/3.14/workflows-LATEST/GeoMxWorkflows/raw-results/riesling1
Name
Last modified
Size
Description
Parent Directory
-
install-out.txt
12-Apr-2022 10:00
1.9K
buildsrc-out.txt
12-Apr-2022 10:00
873
install-summary.dcf
12-Apr-2022 10:00
690
buildsrc-summary.dcf
12-Apr-2022 10:00
480