Index of /checkResults/3.14/workflows-LATEST/GeoMxWorkflows/raw-results/nebbiolo2
Name
Last modified
Size
Description
Parent Directory
-
buildsrc-out.txt
12-Apr-2022 10:00
833
buildsrc-summary.dcf
12-Apr-2022 10:00
438
install-out.txt
12-Apr-2022 10:00
963
install-summary.dcf
12-Apr-2022 10:00
272