Index of /checkResults/3.14/workflows-LATEST/GeoMxWorkflows/raw-results/machv2
Name
Last modified
Size
Description
Parent Directory
-
install-summary.dcf
12-Apr-2022 10:00
282
install-out.txt
12-Apr-2022 10:00
1.0K
buildsrc-out.txt
12-Apr-2022 10:00
843
buildsrc-summary.dcf
12-Apr-2022 10:00
448