Index of /checkResults/3.14/workflows-LATEST/ExpressionNormalizationWorkflow/raw-results/nebbiolo2
Name
Last modified
Size
Description
Parent Directory
-
install-summary.dcf
12-Apr-2022 10:00
307
buildsrc-summary.dcf
12-Apr-2022 10:00
490
buildsrc-out.txt
12-Apr-2022 10:00
942
install-out.txt
12-Apr-2022 10:00
2.2K