Index of /checkResults/3.14/workflows-LATEST/EGSEA123/raw-results/riesling1
Name
Last modified
Size
Description
Parent Directory
-
install-summary.dcf
12-Apr-2022 10:00
642
install-out.txt
12-Apr-2022 10:00
2.1K
buildsrc-summary.dcf
12-Apr-2022 10:00
457
buildsrc-out.txt
12-Apr-2022 10:00
879