Index of /checkResults/3.14/workflows-LATEST/EGSEA123/raw-results/nebbiolo2
Name
Last modified
Size
Description
Parent Directory
-
install-summary.dcf
12-Apr-2022 10:00
261
install-out.txt
12-Apr-2022 10:00
1.0K
buildsrc-out.txt
12-Apr-2022 10:00
844
buildsrc-summary.dcf
12-Apr-2022 10:00
421