Index of /checkResults/3.14/workflows-LATEST/CAGEWorkflow/raw-results/nebbiolo2
Name
Last modified
Size
Description
Parent Directory
-
install-out.txt
12-Apr-2022 10:00
955
install-summary.dcf
12-Apr-2022 10:00
269
buildsrc-out.txt
12-Apr-2022 10:00
866
buildsrc-summary.dcf
12-Apr-2022 10:00
433