Index of /checkResults/3.14/workflows-LATEST/BP4RNAseq/raw-results/riesling1
Name
Last modified
Size
Description
Parent Directory
-
buildsrc-summary.dcf
12-Apr-2022 10:00
458
buildsrc-out.txt
12-Apr-2022 10:00
885
install-summary.dcf
12-Apr-2022 10:00
645
install-out.txt
12-Apr-2022 10:00
2.7K