Index of /checkResults/3.14/workflows-LATEST/BP4RNAseq/raw-results/nebbiolo2
Name
Last modified
Size
Description
Parent Directory
-
install-out.txt
12-Apr-2022 10:00
953
install-summary.dcf
12-Apr-2022 10:00
261
buildsrc-out.txt
12-Apr-2022 10:00
853
buildsrc-summary.dcf
12-Apr-2022 10:00
420