Index of /checkResults/3.14/workflows-LATEST/BP4RNAseq/raw-results/machv2
Name
Last modified
Size
Description
Parent Directory
-
buildsrc-out.txt
12-Apr-2022 10:00
863
buildsrc-summary.dcf
12-Apr-2022 10:00
431
install-out.txt
12-Apr-2022 10:00
1.0K
install-summary.dcf
12-Apr-2022 10:00
272