Back to Build/check report for BioC 3.14 experimental data
ABCDEFGHIJKLMNOPQR[S]TUVWXYZ

This page was generated on 2022-01-26 14:50:22 -0500 (Wed, 26 Jan 2022).

HostnameOSArch (*)R versionInstalled pkgs
nebbiolo2Linux (Ubuntu 20.04.4 LTS)x86_644.1.2 (2021-11-01) -- "Bird Hippie" 4329
Click on any hostname to see more info about the system (e.g. compilers)      (*) as reported by 'uname -p', except on Windows and Mac OS X

All results for package sesameData


To the developers/maintainers of the sesameData package:
Make sure to use the following settings in order to reproduce any error or warning you see on this page.

raw results

Package 346/408HostnameOS / ArchINSTALLBUILDCHECK
sesameData 1.12.0  (landing page)
Wanding Zhou
Snapshot Date: 2022-01-26 07:30:01 -0500 (Wed, 26 Jan 2022)
git_url: https://git.bioconductor.org/packages/sesameData
git_branch: RELEASE_3_14
git_last_commit: ac2277b
git_last_commit_date: 2021-10-26 12:32:27 -0500 (Tue, 26 Oct 2021)
nebbiolo2Linux (Ubuntu 20.04.4 LTS) / x86_64  OK    OK    OK  UNNEEDED, same version is already published