Name | Last modified | Size | Description | |
---|---|---|---|---|
Parent Directory | - | |||
buildsrc-out.txt | 14-Apr-2022 03:50 | 782 | ||
buildsrc-summary.dcf | 14-Apr-2022 03:50 | 452 | ||
checksrc-out.txt | 14-Apr-2022 03:50 | 2.8K | ||
checksrc-summary.dcf | 14-Apr-2022 03:50 | 471 | ||
install-out.txt | 14-Apr-2022 03:50 | 959 | ||
install-summary.dcf | 14-Apr-2022 03:50 | 282 | ||