Name | Last modified | Size | Description | |
---|---|---|---|---|
Parent Directory | - | |||
buildsrc-out.txt | 14-Apr-2022 03:50 | 790 | ||
buildsrc-summary.dcf | 14-Apr-2022 03:50 | 458 | ||
checksrc-out.txt | 14-Apr-2022 03:50 | 2.5K | ||
checksrc-summary.dcf | 14-Apr-2022 03:50 | 478 | ||
install-out.txt | 14-Apr-2022 03:50 | 907 | ||
install-summary.dcf | 14-Apr-2022 03:50 | 286 | ||