Back to Build/check report for BioC 3.14 experimental data
AB[C]DEFGHIJKLMNOPQRSTUVWXYZ

This page was generated on 2021-12-01 18:35:25 -0500 (Wed, 01 Dec 2021).

INSTALL results for CopyNeutralIMA on nebbiolo2

To the developers/maintainers of the CopyNeutralIMA package:
Make sure to use the following settings in order to reproduce any error or warning you see on this page.

raw results

Package 74/408HostnameOS / ArchINSTALLBUILDCHECK
CopyNeutralIMA 1.12.0  (landing page)
Xavier Pastor Hostench
Snapshot Date: 2021-12-01 08:30:01 -0500 (Wed, 01 Dec 2021)
git_url: https://git.bioconductor.org/packages/CopyNeutralIMA
git_branch: RELEASE_3_14
git_last_commit: 28c5e4f
git_last_commit_date: 2021-10-26 12:32:42 -0500 (Tue, 26 Oct 2021)
nebbiolo2Linux (Ubuntu 20.04.3 LTS) / x86_64  OK    OK    OK  UNNEEDED, same version is already published

Summary

Package: CopyNeutralIMA
Version: 1.12.0
Command: /home/biocbuild/bbs-3.14-bioc/R/bin/R CMD INSTALL CopyNeutralIMA
StartedAt: 2021-12-01 14:03:54 -0500 (Wed, 01 Dec 2021)
EndedAt: 2021-12-01 14:04:08 -0500 (Wed, 01 Dec 2021)
EllapsedTime: 14.4 seconds
RetCode: 0
Status:   OK  

Command output

##############################################################################
##############################################################################
###
### Running command:
###
###   /home/biocbuild/bbs-3.14-bioc/R/bin/R CMD INSTALL CopyNeutralIMA
###
##############################################################################
##############################################################################


* installing to library ‘/home/biocbuild/bbs-3.14-bioc/R/library’
* installing *source* package ‘CopyNeutralIMA’ ...
** using staged installation
** R
** inst
** byte-compile and prepare package for lazy loading
** help
Loading required namespace: CopyNeutralIMA
*** installing help indices
** building package indices
** installing vignettes
** testing if installed package can be loaded from temporary location
** testing if installed package can be loaded from final location
** testing if installed package keeps a record of temporary installation path
* DONE (CopyNeutralIMA)