Name | Last modified | Size | Description | |
---|---|---|---|---|
Parent Directory | - | |||
install-summary.dcf | 13-Apr-2022 19:00 | 279 | ||
install-out.txt | 13-Apr-2022 19:00 | 1.0K | ||
checksrc-summary.dcf | 13-Apr-2022 19:00 | 464 | ||
checksrc-out.txt | 13-Apr-2022 19:00 | 2.7K | ||
buildsrc-summary.dcf | 13-Apr-2022 19:00 | 449 | ||
buildsrc-out.txt | 13-Apr-2022 19:00 | 847 | ||