Name | Last modified | Size | Description | |
---|---|---|---|---|
Parent Directory | - | |||
checksrc-out.txt | 13-Apr-2022 19:00 | 3.0K | ||
install-out.txt | 13-Apr-2022 19:00 | 921 | ||
buildsrc-out.txt | 13-Apr-2022 19:00 | 902 | ||
checksrc-summary.dcf | 13-Apr-2022 19:00 | 457 | ||
buildsrc-summary.dcf | 13-Apr-2022 19:00 | 443 | ||
install-summary.dcf | 13-Apr-2022 19:00 | 276 | ||