Name | Last modified | Size | Description | |
---|---|---|---|---|
Parent Directory | - | |||
buildsrc-out.txt | 13-Apr-2022 19:00 | 1.0K | ||
buildsrc-summary.dcf | 13-Apr-2022 19:00 | 441 | ||
checksrc-out.txt | 13-Apr-2022 19:00 | 3.0K | ||
checksrc-summary.dcf | 13-Apr-2022 19:00 | 456 | ||
install-out.txt | 13-Apr-2022 19:00 | 1.0K | ||
install-summary.dcf | 13-Apr-2022 19:00 | 275 | ||