Index of /checkResults/3.14/data-annotation-LATEST/org.Mxanthus.db/raw-results
Name
Last modified
Size
Description
Parent Directory
-
info.dcf
13-Apr-2022 19:00
296
nebbiolo2/
13-Apr-2022 19:00
-