Name | Last modified | Size | Description | |
---|---|---|---|---|
Parent Directory | - | |||
checksrc-out.txt | 13-Apr-2022 19:00 | 2.9K | ||
install-out.txt | 13-Apr-2022 19:00 | 1.0K | ||
buildsrc-out.txt | 13-Apr-2022 19:00 | 895 | ||
checksrc-summary.dcf | 13-Apr-2022 19:00 | 474 | ||
buildsrc-summary.dcf | 13-Apr-2022 19:00 | 455 | ||
install-summary.dcf | 13-Apr-2022 19:00 | 284 | ||