Name | Last modified | Size | Description | |
---|---|---|---|---|
Parent Directory | - | |||
checksrc-summary.dcf | 13-Apr-2022 19:00 | 421 | ||
checksrc-out.txt | 13-Apr-2022 19:00 | 2.6K | ||
install-summary.dcf | 13-Apr-2022 19:00 | 257 | ||
install-out.txt | 13-Apr-2022 19:00 | 935 | ||
buildsrc-summary.dcf | 13-Apr-2022 19:00 | 415 | ||
buildsrc-out.txt | 13-Apr-2022 19:00 | 1.0K | ||