Name | Last modified | Size | Description | |
---|---|---|---|---|
Parent Directory | - | |||
checksrc-out.txt | 13-Apr-2022 19:00 | 2.9K | ||
install-out.txt | 13-Apr-2022 19:00 | 1.0K | ||
buildsrc-out.txt | 13-Apr-2022 19:00 | 830 | ||
checksrc-summary.dcf | 13-Apr-2022 19:00 | 447 | ||
buildsrc-summary.dcf | 13-Apr-2022 19:00 | 435 | ||
install-summary.dcf | 13-Apr-2022 19:00 | 270 | ||