Index of /checkResults/3.14/data-annotation-LATEST/EuPathDB/raw-results/nebbiolo2
Name
Last modified
Size
Description
Parent Directory
-
install-out.txt
13-Apr-2022 19:00
950
install-summary.dcf
13-Apr-2022 19:00
260
buildsrc-out.txt
13-Apr-2022 19:00
1.2K
buildsrc-summary.dcf
13-Apr-2022 19:00
334