Index of /checkResults/3.14/data-annotation-LATEST/EpiTxDb.Sc.sacCer3/raw-results
Name
Last modified
Size
Description
Parent Directory
-
info.dcf
13-Apr-2022 19:00
297
nebbiolo2/
13-Apr-2022 19:00
-