Index of /checkResults/3.14/data-annotation-LATEST/EpiTxDb.Mm.mm10/raw-results
Name
Last modified
Size
Description
Parent Directory
-
nebbiolo2/
13-Apr-2022 19:00
-
info.dcf
13-Apr-2022 19:00
291