Name | Last modified | Size | Description | |
---|---|---|---|---|
Parent Directory | - | |||
buildsrc-out.txt | 13-Apr-2022 19:00 | 888 | ||
buildsrc-summary.dcf | 13-Apr-2022 19:00 | 429 | ||
checksrc-out.txt | 13-Apr-2022 19:00 | 2.6K | ||
checksrc-summary.dcf | 13-Apr-2022 19:00 | 438 | ||
install-out.txt | 13-Apr-2022 19:00 | 901 | ||
install-summary.dcf | 13-Apr-2022 19:00 | 266 | ||