Name | Last modified | Size | Description | |
---|---|---|---|---|
Parent Directory | - | |||
checksrc-out.txt | 13-Apr-2022 19:00 | 2.6K | ||
install-out.txt | 13-Apr-2022 19:00 | 895 | ||
buildsrc-out.txt | 13-Apr-2022 19:00 | 880 | ||
checksrc-summary.dcf | 13-Apr-2022 19:00 | 430 | ||
buildsrc-summary.dcf | 13-Apr-2022 19:00 | 421 | ||
install-summary.dcf | 13-Apr-2022 19:00 | 262 | ||