Index of /checkResults/3.14/books-LATEST/csawBook/raw-results/nebbiolo2
Name
Last modified
Size
Description
Parent Directory
-
buildsrc-out.txt
09-Apr-2022 03:00
843
buildsrc-summary.dcf
09-Apr-2022 03:00
420
install-out.txt
09-Apr-2022 03:00
939
install-summary.dcf
09-Apr-2022 03:00
260