Index of /checkResults/3.14/books-LATEST/SingleRBook/raw-results/nebbiolo2
Name
Last modified
Size
Description
Parent Directory
-
install-summary.dcf
09-Apr-2022 03:00
265
install-out.txt
09-Apr-2022 03:00
943
buildsrc-summary.dcf
09-Apr-2022 03:00
429
buildsrc-out.txt
09-Apr-2022 03:00
855