Index of /checkResults/3.14/books-LATEST/OSCA/raw-results/nebbiolo2
Name
Last modified
Size
Description
Parent Directory
-
install-summary.dcf
09-Apr-2022 03:00
251
buildsrc-summary.dcf
09-Apr-2022 03:00
406
buildsrc-out.txt
09-Apr-2022 03:00
827
install-out.txt
09-Apr-2022 03:00
923