Index of /checkResults/3.14/books-LATEST/OSCA.multisample/raw-results/nebbiolo2
Name
Last modified
Size
Description
Parent Directory
-
buildsrc-out.txt
09-Apr-2022 03:00
12K
buildsrc-summary.dcf
09-Apr-2022 03:00
352
install-out.txt
09-Apr-2022 03:00
971
install-summary.dcf
09-Apr-2022 03:00
276