Index of /checkResults/3.14/books-LATEST/OSCA.basic/raw-results/nebbiolo2
Name
Last modified
Size
Description
Parent Directory
-
buildsrc-out.txt
09-Apr-2022 03:00
851
buildsrc-summary.dcf
09-Apr-2022 03:00
426
install-out.txt
09-Apr-2022 03:00
947
install-summary.dcf
09-Apr-2022 03:00
264