Index of /checkResults/3.14/books-LATEST/OSCA.advanced/raw-results/nebbiolo2
Name
Last modified
Size
Description
Parent Directory
-
buildsrc-summary.dcf
09-Apr-2022 03:00
435
buildsrc-out.txt
09-Apr-2022 03:00
1.1K
install-summary.dcf
09-Apr-2022 03:00
270
install-out.txt
09-Apr-2022 03:00
959