Name | Last modified | Size | Description | |
---|---|---|---|---|
Parent Directory | - | |||
buildbin-out.txt | 14-Apr-2022 01:08 | 2.8K | ||
buildbin-summary.dcf | 14-Apr-2022 01:08 | 527 | ||
buildsrc-out.txt | 14-Apr-2022 01:08 | 908 | ||
buildsrc-summary.dcf | 14-Apr-2022 01:08 | 425 | ||
checksrc-out.txt | 14-Apr-2022 01:08 | 3.4K | ||
checksrc-summary.dcf | 14-Apr-2022 01:08 | 442 | ||
install-out.txt | 14-Apr-2022 01:08 | 2.0K | ||
install-summary.dcf | 14-Apr-2022 01:08 | 268 | ||