![]() | Name | Last modified | Size | Description |
---|---|---|---|---|
![]() | Parent Directory | - | ||
![]() | buildbin-summary.dcf | 14-Apr-2022 01:07 | 572 | |
![]() | buildbin-out.txt | 14-Apr-2022 01:07 | 1.6K | |
![]() | checksrc-summary.dcf | 14-Apr-2022 01:07 | 484 | |
![]() | checksrc-out.txt | 14-Apr-2022 01:07 | 3.9K | |
![]() | buildsrc-summary.dcf | 14-Apr-2022 01:07 | 481 | |
![]() | buildsrc-out.txt | 14-Apr-2022 01:07 | 911 | |
![]() | install-summary.dcf | 14-Apr-2022 01:07 | 689 | |
![]() | install-out.txt | 14-Apr-2022 01:07 | 2.4K | |