Name | Last modified | Size | Description | |
---|---|---|---|---|
Parent Directory | - | |||
buildbin-out.txt | 14-Apr-2022 01:07 | 6.7K | ||
buildbin-summary.dcf | 14-Apr-2022 01:07 | 551 | ||
buildsrc-out.txt | 14-Apr-2022 01:07 | 947 | ||
buildsrc-summary.dcf | 14-Apr-2022 01:07 | 465 | ||
checksrc-out.txt | 14-Apr-2022 01:07 | 10K | ||
checksrc-summary.dcf | 14-Apr-2022 01:07 | 469 | ||
install-out.txt | 14-Apr-2022 01:07 | 7.5K | ||
install-summary.dcf | 14-Apr-2022 01:07 | 658 | ||