Name | Last modified | Size | Description | |
---|---|---|---|---|
Parent Directory | - | |||
buildbin-out.txt | 14-Apr-2022 01:08 | 1.3K | ||
buildbin-summary.dcf | 14-Apr-2022 01:08 | 519 | ||
buildsrc-out.txt | 14-Apr-2022 01:08 | 808 | ||
buildsrc-summary.dcf | 14-Apr-2022 01:08 | 422 | ||
checksrc-out.txt | 14-Apr-2022 01:08 | 3.3K | ||
checksrc-summary.dcf | 14-Apr-2022 01:08 | 443 | ||
install-out.txt | 14-Apr-2022 01:08 | 1.2K | ||
install-summary.dcf | 14-Apr-2022 01:08 | 265 | ||