Name | Last modified | Size | Description | |
---|---|---|---|---|
Parent Directory | - | |||
checksrc-out.txt | 14-Apr-2022 01:06 | 6.8K | ||
install-out.txt | 14-Apr-2022 01:06 | 955 | ||
buildsrc-out.txt | 14-Apr-2022 01:06 | 868 | ||
checksrc-summary.dcf | 14-Apr-2022 01:06 | 428 | ||
buildsrc-summary.dcf | 14-Apr-2022 01:06 | 415 | ||
install-summary.dcf | 14-Apr-2022 01:06 | 258 | ||