Name | Last modified | Size | Description | |
---|---|---|---|---|
Parent Directory | - | |||
install-summary.dcf | 14-Apr-2022 01:08 | 294 | ||
buildsrc-summary.dcf | 14-Apr-2022 01:08 | 464 | ||
checksrc-summary.dcf | 14-Apr-2022 01:08 | 493 | ||
buildbin-summary.dcf | 14-Apr-2022 01:08 | 605 | ||
buildsrc-out.txt | 14-Apr-2022 01:08 | 907 | ||
install-out.txt | 14-Apr-2022 01:08 | 1.0K | ||
buildbin-out.txt | 14-Apr-2022 01:08 | 1.3K | ||
checksrc-out.txt | 14-Apr-2022 01:08 | 3.4K | ||