Name | Last modified | Size | Description | |
---|---|---|---|---|
Parent Directory | - | |||
buildbin-out.txt | 14-Apr-2022 01:07 | 2.6K | ||
buildbin-summary.dcf | 14-Apr-2022 01:07 | 638 | ||
buildsrc-out.txt | 14-Apr-2022 01:07 | 1.2K | ||
buildsrc-summary.dcf | 14-Apr-2022 01:07 | 524 | ||
checksrc-out.txt | 14-Apr-2022 01:07 | 4.6K | ||
checksrc-summary.dcf | 14-Apr-2022 01:07 | 528 | ||
install-out.txt | 14-Apr-2022 01:07 | 3.4K | ||
install-summary.dcf | 14-Apr-2022 01:07 | 787 | ||