Name | Last modified | Size | Description | |
---|---|---|---|---|
Parent Directory | - | |||
buildbin-summary.dcf | 14-Apr-2022 01:07 | 569 | ||
buildbin-out.txt | 14-Apr-2022 01:07 | 1.5K | ||
checksrc-summary.dcf | 14-Apr-2022 01:07 | 482 | ||
checksrc-out.txt | 14-Apr-2022 01:07 | 4.1K | ||
buildsrc-summary.dcf | 14-Apr-2022 01:07 | 479 | ||
buildsrc-out.txt | 14-Apr-2022 01:07 | 907 | ||
install-summary.dcf | 14-Apr-2022 01:07 | 685 | ||
install-out.txt | 14-Apr-2022 01:07 | 2.2K | ||