Index of /checkResults/3.14/bioc-LATEST/synapter/raw-results/nebbiolo2
Name
Last modified
Size
Description
Parent Directory
-
buildsrc-summary.dcf
14-Apr-2022 01:06
336
buildsrc-out.txt
14-Apr-2022 01:06
49K
install-summary.dcf
14-Apr-2022 01:06
261
install-out.txt
14-Apr-2022 01:06
1.1K