Name | Last modified | Size | Description | |
---|---|---|---|---|
Parent Directory | - | |||
buildsrc-out.txt | 14-Apr-2022 01:06 | 809 | ||
buildsrc-summary.dcf | 14-Apr-2022 01:06 | 418 | ||
checksrc-out.txt | 14-Apr-2022 01:06 | 3.1K | ||
checksrc-summary.dcf | 14-Apr-2022 01:06 | 426 | ||
install-out.txt | 14-Apr-2022 01:06 | 950 | ||
install-summary.dcf | 14-Apr-2022 01:06 | 260 | ||