Name | Last modified | Size | Description | |
---|---|---|---|---|
Parent Directory | - | |||
checksrc-out.txt | 14-Apr-2022 01:08 | 3.8K | ||
buildbin-out.txt | 14-Apr-2022 01:08 | 1.2K | ||
install-out.txt | 14-Apr-2022 01:08 | 1.0K | ||
buildsrc-out.txt | 14-Apr-2022 01:08 | 902 | ||
buildbin-summary.dcf | 14-Apr-2022 01:08 | 563 | ||
checksrc-summary.dcf | 14-Apr-2022 01:08 | 466 | ||
buildsrc-summary.dcf | 14-Apr-2022 01:08 | 445 | ||
install-summary.dcf | 14-Apr-2022 01:08 | 280 | ||