Name | Last modified | Size | Description | |
---|---|---|---|---|
Parent Directory | - | |||
checksrc-summary.dcf | 14-Apr-2022 01:06 | 440 | ||
checksrc-out.txt | 14-Apr-2022 01:06 | 5.9K | ||
buildsrc-summary.dcf | 14-Apr-2022 01:06 | 428 | ||
buildsrc-out.txt | 14-Apr-2022 01:06 | 885 | ||
install-summary.dcf | 14-Apr-2022 01:06 | 267 | ||
install-out.txt | 14-Apr-2022 01:06 | 967 | ||