Name | Last modified | Size | Description | |
---|---|---|---|---|
Parent Directory | - | |||
install-summary.dcf | 14-Apr-2022 01:07 | 650 | ||
install-out.txt | 14-Apr-2022 01:07 | 8.8K | ||
checksrc-summary.dcf | 14-Apr-2022 01:07 | 467 | ||
checksrc-out.txt | 14-Apr-2022 01:07 | 4.3K | ||
buildsrc-summary.dcf | 14-Apr-2022 01:07 | 463 | ||
buildsrc-out.txt | 14-Apr-2022 01:07 | 887 | ||
buildbin-summary.dcf | 14-Apr-2022 01:07 | 545 | ||
buildbin-out.txt | 14-Apr-2022 01:07 | 8.0K | ||