Name | Last modified | Size | Description | |
---|---|---|---|---|
Parent Directory | - | |||
checksrc-out.txt | 14-Apr-2022 01:06 | 3.2K | ||
install-out.txt | 14-Apr-2022 01:06 | 950 | ||
buildsrc-out.txt | 14-Apr-2022 01:06 | 850 | ||
checksrc-summary.dcf | 14-Apr-2022 01:06 | 428 | ||
buildsrc-summary.dcf | 14-Apr-2022 01:06 | 420 | ||
install-summary.dcf | 14-Apr-2022 01:06 | 261 | ||