Name | Last modified | Size | Description | |
---|---|---|---|---|
Parent Directory | - | |||
install-summary.dcf | 14-Apr-2022 01:07 | 622 | ||
install-out.txt | 14-Apr-2022 01:07 | 2.6K | ||
checksrc-summary.dcf | 14-Apr-2022 01:07 | 454 | ||
checksrc-out.txt | 14-Apr-2022 01:07 | 4.9K | ||
buildsrc-summary.dcf | 14-Apr-2022 01:07 | 451 | ||
buildsrc-out.txt | 14-Apr-2022 01:07 | 872 | ||
buildbin-summary.dcf | 14-Apr-2022 01:07 | 525 | ||
buildbin-out.txt | 14-Apr-2022 01:07 | 1.9K | ||